BEGIN:VCALENDAR
VERSION:2.0
PRODID:spatie/icalendar-generator
DESCRIPTION:Events from Highland Caving Group
X-WR-CALDESC:Events from Highland Caving Group
REFRESH-INTERVAL;VALUE=DURATION:PT1440M
X-PUBLISHED-TTL:PT1440M
BEGIN:VTIMEZONE
TZID:Australia/Sydney
BEGIN:DAYLIGHT
DTSTART:20251005T020000Z
TZOFFSETFROM:+1000
TZOFFSETTO:+1100
END:DAYLIGHT
BEGIN:STANDARD
DTSTART:20260405T030000Z
TZOFFSETFROM:+1100
TZOFFSETTO:+1000
END:STANDARD
BEGIN:DAYLIGHT
DTSTART:20261004T020000Z
TZOFFSETFROM:+1000
TZOFFSETTO:+1100
END:DAYLIGHT
END:VTIMEZONE
BEGIN:VTIMEZONE
TZID:UTC
BEGIN:STANDARD
DTSTART:20250727T182001Z
TZOFFSETFROM:+0000
TZOFFSETTO:+0000
END:STANDARD
END:VTIMEZONE
BEGIN:VEVENT
UID:97-2
DTSTAMP:20260423T182001Z
SUMMARY:HCG Monthly meeting
LOCATION:Zoom (Fill in the Contact Us form for link)
ORGANIZER;CN=HCG:MAILTO:josh@hcg.caves.org.au
RRULE:FREQ=MONTHLY;BYDAY=2TU;UNTIL=20300601T000000Z
DTSTART;TZID=Australia/Sydney:20260512T200000
DTEND;TZID=Australia/Sydney:20260512T210000
X-ALT-DESC;FMTTYPE=TEXT/HTML:We hold monthly Zoom Meetings on the 2nd Tuesd
 ay of every month (excluding January). Please get in contact via our Conta
 ct Us form to request the Zoom Link!
CATEGORIES:General,  Meetings
URL;VALUE=URI:https://hcg.caves.org.au/site/mc-events/hcg-monthly-meeting/?
 mc_id=97
METHOD:PUBLISH
END:VEVENT
END:VCALENDAR